BEGIN:VCALENDAR
METHOD:REQUEST
VERSION:2.0
BEGIN:VEVENT
URL:https://viewstub.com/41-FRIENDS-LIVE-IN-CLIFTON-NJ-
DTSTART:20230806T180000
DTEND:20230806T220000
SUMMARY;LANGUAGE=en-US:41 + FRIENDS LIVE IN CLIFTON, NJ!
DESCRIPTION;LANGUAGE=en-US:To see more information about this event, please visit: https://viewstub.com/41-FRIENDS-LIVE-IN-CLIFTON-NJ-
LOCATION;LANGUAGE=en-US:inperson
END:VEVENT
END:VCALENDAR