BEGIN:VCALENDAR
METHOD:REQUEST
VERSION:2.0
BEGIN:VEVENT
URL:https://viewstub.com/66ers-vs-Jethawks-2-28-21-Live-Stream
DTSTART:20210228T120000
DTEND:20210228T150000
SUMMARY;LANGUAGE=en-US:66ers vs Jethawks 2/28/21 Live Stream
DESCRIPTION;LANGUAGE=en-US:To see more information about this event, please visit: https://viewstub.com/66ers-vs-Jethawks-2-28-21-Live-Stream
LOCATION;LANGUAGE=en-US:virtual
END:VEVENT
END:VCALENDAR