BEGIN:VCALENDAR
METHOD:REQUEST
VERSION:2.0
BEGIN:VEVENT
URL:https://viewstub.com/7EVIN7INS-LIVE-IN-NJ-
DTSTART:20220807T180000
DTEND:20220807T220000
SUMMARY;LANGUAGE=en-US:7EVIN7INS LIVE IN NJ!
DESCRIPTION;LANGUAGE=en-US:To see more information about this event, please visit: https://viewstub.com/7EVIN7INS-LIVE-IN-NJ-
LOCATION;LANGUAGE=en-US:inperson
END:VEVENT
END:VCALENDAR