BEGIN:VCALENDAR
METHOD:REQUEST
VERSION:2.0
BEGIN:VEVENT
URL:https://viewstub.com/ATLInternationalJazzJam
DTSTART:20210430T190000
DTEND:20210430T220000
SUMMARY;LANGUAGE=en-US:4th Annual Atlanta International Jazz Jam
DESCRIPTION;LANGUAGE=en-US:To see more information about this event, please visit: https://viewstub.com/ATLInternationalJazzJam
LOCATION;LANGUAGE=en-US:virtual
END:VEVENT
END:VCALENDAR