BEGIN:VCALENDAR
METHOD:REQUEST
VERSION:2.0
BEGIN:VEVENT
URL:https://viewstub.com/Agile-Ungathering-2020
DTSTART:20200621T070000Z
DTEND:19700101T000000Z
SUMMARY;LANGUAGE=en-US:Agile Ungathering 2020
DESCRIPTION;LANGUAGE=en-US:To see more information about this event, please visit: https://viewstub.com/Agile-Ungathering-2020
LOCATION;LANGUAGE=en-US:virtual
END:VEVENT
END:VCALENDAR