BEGIN:VCALENDAR
METHOD:REQUEST
VERSION:2.0
BEGIN:VEVENT
URL:https://viewstub.com/All-Together-Now
DTSTART:20220329T200000
DTEND:20220330T220000
SUMMARY;LANGUAGE=en-US:All Together Now
DESCRIPTION;LANGUAGE=en-US:To see more information about this event, please visit: https://viewstub.com/All-Together-Now
LOCATION;LANGUAGE=en-US:hybrid
END:VEVENT
END:VCALENDAR