BEGIN:VCALENDAR
METHOD:REQUEST
VERSION:2.0
BEGIN:VEVENT
URL:https://viewstub.com/Artist-Networking-Event-Jersey-Edition-
DTSTART:20221211T180000
DTEND:20221211T220000
SUMMARY;LANGUAGE=en-US:Artist Networking Event! Jersey Edition!
DESCRIPTION;LANGUAGE=en-US:To see more information about this event, please visit: https://viewstub.com/Artist-Networking-Event-Jersey-Edition-
LOCATION;LANGUAGE=en-US:inperson
END:VEVENT
END:VCALENDAR