BEGIN:VCALENDAR
METHOD:REQUEST
VERSION:2.0
BEGIN:VEVENT
URL:https://viewstub.com/BANDMANRILL-LIVE-IN-NJ-
DTSTART:20220804T190000
DTEND:20220804T230000
SUMMARY;LANGUAGE=en-US:BANDMANRILL LIVE IN NJ!
DESCRIPTION;LANGUAGE=en-US:To see more information about this event, please visit: https://viewstub.com/BANDMANRILL-LIVE-IN-NJ-
LOCATION;LANGUAGE=en-US:inperson
END:VEVENT
END:VCALENDAR