BEGIN:VCALENDAR
METHOD:REQUEST
VERSION:2.0
BEGIN:VEVENT
URL:https://viewstub.com/Bhakti-Love
DTSTART:20220915T130000
DTEND:20220918T210000
SUMMARY;LANGUAGE=en-US:Bhakti Love
DESCRIPTION;LANGUAGE=en-US:To see more information about this event, please visit: https://viewstub.com/Bhakti-Love
LOCATION;LANGUAGE=en-US:inperson
END:VEVENT
END:VCALENDAR