BEGIN:VCALENDAR
METHOD:REQUEST
VERSION:2.0
BEGIN:VEVENT
URL:https://viewstub.com/BoyzBullz2025
DTSTART:20251003T190000
DTEND:20251003T220000
SUMMARY;LANGUAGE=en-US:Boneyard General Repair Boyz & Bullz presented by Westrans
DESCRIPTION;LANGUAGE=en-US:To see more information about this event, please visit: https://viewstub.com/BoyzBullz2025
LOCATION;LANGUAGE=en-US:virtual
END:VEVENT
END:VCALENDAR