BEGIN:VCALENDAR
METHOD:REQUEST
VERSION:2.0
BEGIN:VEVENT
URL:https://viewstub.com/Buy-Adderall-Online-with-Overnight-Shipping-Offer
DTSTART:20240908T120000
DTEND:20240930T120000
SUMMARY;LANGUAGE=en-US:Buy Adderall Online with Overnight Shipping Offer
DESCRIPTION;LANGUAGE=en-US:To see more information about this event, please visit: https://viewstub.com/Buy-Adderall-Online-with-Overnight-Shipping-Offer
LOCATION;LANGUAGE=en-US:virtual
END:VEVENT
END:VCALENDAR