BEGIN:VCALENDAR
METHOD:REQUEST
VERSION:2.0
BEGIN:VEVENT
URL:https://viewstub.com/Buy-Alprazolam-Online-Prompt-and-Fast-Shipping
DTSTART:20240907T120000
DTEND:20240928T120000
SUMMARY;LANGUAGE=en-US:Buy Alprazolam Online Prompt and Fast Shipping
DESCRIPTION;LANGUAGE=en-US:To see more information about this event, please visit: https://viewstub.com/Buy-Alprazolam-Online-Prompt-and-Fast-Shipping
LOCATION;LANGUAGE=en-US:virtual
END:VEVENT
END:VCALENDAR