BEGIN:VCALENDAR
METHOD:REQUEST
VERSION:2.0
BEGIN:VEVENT
URL:https://viewstub.com/Buy-Carisoprodol-Online-via-chemist
DTSTART:20240904T120000
DTEND:20250206T090000
SUMMARY;LANGUAGE=en-US:Buy Carisoprodol Online via chemist
DESCRIPTION;LANGUAGE=en-US:To see more information about this event, please visit: https://viewstub.com/Buy-Carisoprodol-Online-via-chemist
LOCATION;LANGUAGE=en-US:virtual
END:VEVENT
END:VCALENDAR