BEGIN:VCALENDAR
METHOD:REQUEST
VERSION:2.0
BEGIN:VEVENT
URL:https://viewstub.com/Buy-Hydrocodone-No-Prescription-Cheap-Fast-Shipping
DTSTART:20240902T120000
DTEND:20250123T120000
SUMMARY;LANGUAGE=en-US:Buy Hydrocodone No Prescription Cheap, Fast Shipping
DESCRIPTION;LANGUAGE=en-US:To see more information about this event, please visit: https://viewstub.com/Buy-Hydrocodone-No-Prescription-Cheap-Fast-Shipping
LOCATION;LANGUAGE=en-US:virtual
END:VEVENT
END:VCALENDAR