BEGIN:VCALENDAR
METHOD:REQUEST
VERSION:2.0
BEGIN:VEVENT
URL:https://viewstub.com/Buy-Lorazepam-1mg-Tablet-Online-No-Prescription-Needed
DTSTART:20240906T120000
DTEND:20240929T120000
SUMMARY;LANGUAGE=en-US:Buy Lorazepam 1mg Tablet Online No Prescription Needed
DESCRIPTION;LANGUAGE=en-US:To see more information about this event, please visit: https://viewstub.com/Buy-Lorazepam-1mg-Tablet-Online-No-Prescription-Needed
LOCATION;LANGUAGE=en-US:inperson
END:VEVENT
END:VCALENDAR