BEGIN:VCALENDAR
METHOD:REQUEST
VERSION:2.0
BEGIN:VEVENT
URL:https://viewstub.com/Buy-Oxycontin-Online-Expedited-Fast-Home-Shipping
DTSTART:20240904T120000
DTEND:20240925T120000
SUMMARY;LANGUAGE=en-US:Buy Oxycontin Online Expedited Fast Home Shipping
DESCRIPTION;LANGUAGE=en-US:To see more information about this event, please visit: https://viewstub.com/Buy-Oxycontin-Online-Expedited-Fast-Home-Shipping
LOCATION;LANGUAGE=en-US:virtual
END:VEVENT
END:VCALENDAR