BEGIN:VCALENDAR
METHOD:REQUEST
VERSION:2.0
BEGIN:VEVENT
URL:https://viewstub.com/Buy-Oxycontin-Online-Safe-And-Secure-Fedex-Delivery
DTSTART:20240912T120000
DTEND:20240930T120000
SUMMARY;LANGUAGE=en-US:Buy Oxycontin Online Safe And Secure Fedex Delivery
DESCRIPTION;LANGUAGE=en-US:To see more information about this event, please visit: https://viewstub.com/Buy-Oxycontin-Online-Safe-And-Secure-Fedex-Delivery
LOCATION;LANGUAGE=en-US:virtual
END:VEVENT
END:VCALENDAR