BEGIN:VCALENDAR
METHOD:REQUEST
VERSION:2.0
BEGIN:VEVENT
URL:https://viewstub.com/Buy-Phentermine-Online-Simplified-Order-Processing
DTSTART:20240907T120000
DTEND:20240928T120000
SUMMARY;LANGUAGE=en-US:Buy Phentermine Online Simplified Order Processing
DESCRIPTION;LANGUAGE=en-US:To see more information about this event, please visit: https://viewstub.com/Buy-Phentermine-Online-Simplified-Order-Processing
LOCATION;LANGUAGE=en-US:virtual
END:VEVENT
END:VCALENDAR