BEGIN:VCALENDAR
METHOD:REQUEST
VERSION:2.0
BEGIN:VEVENT
URL:https://viewstub.com/Buy-Soma-Online-With-Local-Delivery-Options
DTSTART:20240903T120000
DTEND:20240925T120000
SUMMARY;LANGUAGE=en-US:Buy Soma Online With Local Delivery Options
DESCRIPTION;LANGUAGE=en-US:To see more information about this event, please visit: https://viewstub.com/Buy-Soma-Online-With-Local-Delivery-Options
LOCATION;LANGUAGE=en-US:virtual
END:VEVENT
END:VCALENDAR