BEGIN:VCALENDAR
METHOD:REQUEST
VERSION:2.0
BEGIN:VEVENT
URL:https://viewstub.com/Buy-Subutex-Online-High-Quality-Swift-Service
DTSTART:20240904T120000
DTEND:20240925T120000
SUMMARY;LANGUAGE=en-US:Buy Subutex Online High-Quality Swift Service
DESCRIPTION;LANGUAGE=en-US:To see more information about this event, please visit: https://viewstub.com/Buy-Subutex-Online-High-Quality-Swift-Service
LOCATION;LANGUAGE=en-US:virtual
END:VEVENT
END:VCALENDAR