BEGIN:VCALENDAR
METHOD:REQUEST
VERSION:2.0
BEGIN:VEVENT
URL:https://viewstub.com/Buy-Vyvanse-Online-Safe-Legal-and-Delivered-to-Your-Door
DTSTART:20240829T120000
DTEND:20250213T120000
SUMMARY;LANGUAGE=en-US:Buy Vyvanse Online Safe Legal and Delivered to Your Door
DESCRIPTION;LANGUAGE=en-US:To see more information about this event, please visit: https://viewstub.com/Buy-Vyvanse-Online-Safe-Legal-and-Delivered-to-Your-Door
LOCATION;LANGUAGE=en-US:virtual
END:VEVENT
END:VCALENDAR