BEGIN:VCALENDAR
METHOD:REQUEST
VERSION:2.0
BEGIN:VEVENT
URL:https://viewstub.com/CBA-American-vs-CBA-National-2-27-21-Live-Stream
DTSTART:20210227T090000
DTEND:20210227T230000
SUMMARY;LANGUAGE=en-US:CBA American vs CBA National 2/27/21 Live Stream
DESCRIPTION;LANGUAGE=en-US:To see more information about this event, please visit: https://viewstub.com/CBA-American-vs-CBA-National-2-27-21-Live-Stream
LOCATION;LANGUAGE=en-US:virtual
END:VEVENT
END:VCALENDAR