BEGIN:VCALENDAR
METHOD:REQUEST
VERSION:2.0
BEGIN:VEVENT
URL:https://viewstub.com/CBA-Cardinal-vs-CBA-South-Bay-22021-Live-Stream
DTSTART:20210220T110000
DTEND:20210220T130000
SUMMARY;LANGUAGE=en-US:CBA Cardinal vs CBA South Bay 2/20/21 Live Stream
DESCRIPTION;LANGUAGE=en-US:To see more information about this event, please visit: https://viewstub.com/CBA-Cardinal-vs-CBA-South-Bay-22021-Live-Stream
LOCATION;LANGUAGE=en-US:virtual
END:VEVENT
END:VCALENDAR