BEGIN:VCALENDAR
METHOD:REQUEST
VERSION:2.0
BEGIN:VEVENT
URL:https://viewstub.com/CBA-Pride-vs-CBA-Freedom
DTSTART:20210210T194500
DTEND:20210210T221500
SUMMARY;LANGUAGE=en-US:CBA Pride vs CBA Freedom 2/10/21 Live Stream
DESCRIPTION;LANGUAGE=en-US:To see more information about this event, please visit: https://viewstub.com/CBA-Pride-vs-CBA-Freedom
LOCATION;LANGUAGE=en-US:virtual
END:VEVENT
END:VCALENDAR