BEGIN:VCALENDAR
METHOD:REQUEST
VERSION:2.0
BEGIN:VEVENT
URL:https://viewstub.com/CBA-Stars-vs-CBA-Stripes-2-23-21-Live-Stream
DTSTART:20210223T191500
DTEND:20210223T213000
SUMMARY;LANGUAGE=en-US:CBA Stars vs CBA Stripes 2/23/21 Live Stream
DESCRIPTION;LANGUAGE=en-US:To see more information about this event, please visit: https://viewstub.com/CBA-Stars-vs-CBA-Stripes-2-23-21-Live-Stream
LOCATION;LANGUAGE=en-US:virtual
END:VEVENT
END:VCALENDAR