BEGIN:VCALENDAR
METHOD:REQUEST
VERSION:2.0
BEGIN:VEVENT
URL:https://viewstub.com/CinematicClassics
DTSTART:20240621T200000
DTEND:20240621T230000
SUMMARY;LANGUAGE=en-US:Summer Serenades - Cinematic Classics
DESCRIPTION;LANGUAGE=en-US:To see more information about this event, please visit: https://viewstub.com/CinematicClassics
LOCATION;LANGUAGE=en-US:inperson
END:VEVENT
END:VCALENDAR