BEGIN:VCALENDAR
METHOD:REQUEST
VERSION:2.0
BEGIN:VEVENT
URL:https://viewstub.com/Concierto-Privado-de-Banda-MS
DTSTART:20201106T190000
DTEND:20201106T200000
SUMMARY;LANGUAGE=en-US:Concierto Privado de Banda MS
DESCRIPTION;LANGUAGE=en-US:To see more information about this event, please visit: https://viewstub.com/Concierto-Privado-de-Banda-MS
LOCATION;LANGUAGE=en-US:virtual
END:VEVENT
END:VCALENDAR