BEGIN:VCALENDAR
METHOD:REQUEST
VERSION:2.0
BEGIN:VEVENT
URL:https://viewstub.com/Concierto-de-Banda-MS
DTSTART:20200911T190000
DTEND:20200911T200000
SUMMARY;LANGUAGE=en-US:Concierto de Banda MS
DESCRIPTION;LANGUAGE=en-US:To see more information about this event, please visit: https://viewstub.com/Concierto-de-Banda-MS
LOCATION;LANGUAGE=en-US:virtual
END:VEVENT
END:VCALENDAR