BEGIN:VCALENDAR
METHOD:REQUEST
VERSION:2.0
BEGIN:VEVENT
URL:https://viewstub.com/Crowntown-vs-Outsiders-2-11-21-
DTSTART:20210211T141500
DTEND:20210211T163000
SUMMARY;LANGUAGE=en-US:Crowntown vs Outsiders 2/11/21 Live Stream
DESCRIPTION;LANGUAGE=en-US:To see more information about this event, please visit: https://viewstub.com/Crowntown-vs-Outsiders-2-11-21-
LOCATION;LANGUAGE=en-US:virtual
END:VEVENT
END:VCALENDAR