BEGIN:VCALENDAR
METHOD:REQUEST
VERSION:2.0
BEGIN:VEVENT
URL:https://viewstub.com/DOM-CORLEO-LIVE-IN-CLIFTON-NJ-
DTSTART:20230924T180000
DTEND:20230924T220000
SUMMARY;LANGUAGE=en-US:DOM CORLEO LIVE IN CLIFTON, NJ!
DESCRIPTION;LANGUAGE=en-US:To see more information about this event, please visit: https://viewstub.com/DOM-CORLEO-LIVE-IN-CLIFTON-NJ-
LOCATION;LANGUAGE=en-US:inperson
END:VEVENT
END:VCALENDAR