BEGIN:VCALENDAR
METHOD:REQUEST
VERSION:2.0
BEGIN:VEVENT
URL:https://viewstub.com/Delta-Airlines-Boston-Terminal-
DTSTART:20230726T120000
DTEND:20401122T120000
SUMMARY;LANGUAGE=en-US:Delta Airlines Boston Terminal
DESCRIPTION;LANGUAGE=en-US:To see more information about this event, please visit: https://viewstub.com/Delta-Airlines-Boston-Terminal-
LOCATION;LANGUAGE=en-US:https://viewstub.com/Delta-Airlines-Boston-Terminal-
END:VEVENT
END:VCALENDAR