BEGIN:VCALENDAR
METHOD:REQUEST
VERSION:2.0
BEGIN:VEVENT
URL:https://viewstub.com/Dirtbags-vs-Crowntown-2-19-21-Live-Stream
DTSTART:20210219T141500
DTEND:20210219T163000
SUMMARY;LANGUAGE=en-US:Dirtbags vs Crowntown 2/19/21 Live Stream
DESCRIPTION;LANGUAGE=en-US:To see more information about this event, please visit: https://viewstub.com/Dirtbags-vs-Crowntown-2-19-21-Live-Stream
LOCATION;LANGUAGE=en-US:virtual
END:VEVENT
END:VCALENDAR