BEGIN:VCALENDAR
METHOD:REQUEST
VERSION:2.0
BEGIN:VEVENT
URL:https://viewstub.com/Dirtbags-vs-Highland-Hawks-2-26-21-Live-Stream
DTSTART:20210226T141500
DTEND:20210226T161500
SUMMARY;LANGUAGE=en-US:Dirtbags vs Highland Hawks 2/26/21 Live Stream
DESCRIPTION;LANGUAGE=en-US:To see more information about this event, please visit: https://viewstub.com/Dirtbags-vs-Highland-Hawks-2-26-21-Live-Stream
LOCATION;LANGUAGE=en-US:virtual
END:VEVENT
END:VCALENDAR