BEGIN:VCALENDAR
METHOD:REQUEST
VERSION:2.0
BEGIN:VEVENT
URL:https://viewstub.com/Diversity
DTSTART:20200709T150000
DTEND:20200709T160000
SUMMARY;LANGUAGE=en-US:Safety FM presents A Question About Diversity
DESCRIPTION;LANGUAGE=en-US:To see more information about this event, please visit: https://viewstub.com/Diversity
LOCATION;LANGUAGE=en-US:virtual
END:VEVENT
END:VCALENDAR