BEGIN:VCALENDAR
METHOD:REQUEST
VERSION:2.0
BEGIN:VEVENT
URL:https://viewstub.com/El-Monte-Dukes-vs-CBA-Beavers-2-10-21-Live-Stream
DTSTART:20210210T171500
DTEND:20210210T193000
SUMMARY;LANGUAGE=en-US:El Monte Dukes vs CBA Beavers 2/10/21 Live Stream
DESCRIPTION;LANGUAGE=en-US:To see more information about this event, please visit: https://viewstub.com/El-Monte-Dukes-vs-CBA-Beavers-2-10-21-Live-Stream
LOCATION;LANGUAGE=en-US:virtual
END:VEVENT
END:VCALENDAR