BEGIN:VCALENDAR
METHOD:REQUEST
VERSION:2.0
BEGIN:VEVENT
URL:https://viewstub.com/El-Monte-Dukes-vs-La-Verne-Elite-2-24-21-Live-Stream
DTSTART:20210224T170000
DTEND:20210224T191500
SUMMARY;LANGUAGE=en-US:El Monte Dukes vs La Verne Elite 2/24/21 Live Stream
DESCRIPTION;LANGUAGE=en-US:To see more information about this event, please visit: https://viewstub.com/El-Monte-Dukes-vs-La-Verne-Elite-2-24-21-Live-Stream
LOCATION;LANGUAGE=en-US:virtual
END:VEVENT
END:VCALENDAR