BEGIN:VCALENDAR
METHOD:REQUEST
VERSION:2.0
BEGIN:VEVENT
URL:https://viewstub.com/Exodus-Cry
DTSTART:20210729T193000
DTEND:20210731T150000
SUMMARY;LANGUAGE=en-US:The Exodus Cry
DESCRIPTION;LANGUAGE=en-US:To see more information about this event, please visit: https://viewstub.com/Exodus-Cry
LOCATION;LANGUAGE=en-US:hybrid
END:VEVENT
END:VCALENDAR