BEGIN:VCALENDAR
METHOD:REQUEST
VERSION:2.0
BEGIN:VEVENT
URL:https://viewstub.com/Florida-Herbal-Conference
DTSTART:20220402T100000
DTEND:20220402T180000
SUMMARY;LANGUAGE=en-US:Florida Herbal Conference
DESCRIPTION;LANGUAGE=en-US:To see more information about this event, please visit: https://viewstub.com/Florida-Herbal-Conference
LOCATION;LANGUAGE=en-US:hybrid
END:VEVENT
END:VCALENDAR