BEGIN:VCALENDAR
METHOD:REQUEST
VERSION:2.0
BEGIN:VEVENT
URL:https://viewstub.com/Game-and-Anime-Bangers
DTSTART:20240711T200000
DTEND:20240711T223000
SUMMARY;LANGUAGE=en-US:Summer Serenades - Game and Anime Bangers
DESCRIPTION;LANGUAGE=en-US:To see more information about this event, please visit: https://viewstub.com/Game-and-Anime-Bangers
LOCATION;LANGUAGE=en-US:inperson
END:VEVENT
END:VCALENDAR