BEGIN:VCALENDAR
METHOD:REQUEST
VERSION:2.0
BEGIN:VEVENT
URL:https://viewstub.com/Get-Ativan-2mg-Lorazepam-online-Best-Deals
DTSTART:20240904T120000
DTEND:20250102T120000
SUMMARY;LANGUAGE=en-US:Get Ativan 2mg (Lorazepam) online Best Deals
DESCRIPTION;LANGUAGE=en-US:To see more information about this event, please visit: https://viewstub.com/Get-Ativan-2mg-Lorazepam-online-Best-Deals
LOCATION;LANGUAGE=en-US:virtual
END:VEVENT
END:VCALENDAR