BEGIN:VCALENDAR
METHOD:REQUEST
VERSION:2.0
BEGIN:VEVENT
URL:https://viewstub.com/Giants-vs-Nuts-3-7-21-Live-Stream
DTSTART:20210307T120000
DTEND:20210307T150000
SUMMARY;LANGUAGE=en-US:Giants vs Nuts 3/7/21 Live Stream
DESCRIPTION;LANGUAGE=en-US:To see more information about this event, please visit: https://viewstub.com/Giants-vs-Nuts-3-7-21-Live-Stream
LOCATION;LANGUAGE=en-US:virtual
END:VEVENT
END:VCALENDAR