BEGIN:VCALENDAR
METHOD:REQUEST
VERSION:2.0
BEGIN:VEVENT
URL:https://viewstub.com/Highland-Hawks-vs-Crowntown-3-4-21-Live-Stream
DTSTART:20210304T142500
DTEND:20210304T161500
SUMMARY;LANGUAGE=en-US:Highland Hawks vs Crowntown 3/4/21 Live Stream
DESCRIPTION;LANGUAGE=en-US:To see more information about this event, please visit: https://viewstub.com/Highland-Hawks-vs-Crowntown-3-4-21-Live-Stream
LOCATION;LANGUAGE=en-US:virtual
END:VEVENT
END:VCALENDAR