BEGIN:VCALENDAR
METHOD:REQUEST
VERSION:2.0
BEGIN:VEVENT
URL:https://viewstub.com/Highland-Hawks-vs-West-OC-2-25-21-Live-Stream
DTSTART:20210225T141500
DTEND:20210225T161500
SUMMARY;LANGUAGE=en-US:Highland Hawks vs West OC 2/25/21 Live Stream
DESCRIPTION;LANGUAGE=en-US:To see more information about this event, please visit: https://viewstub.com/Highland-Hawks-vs-West-OC-2-25-21-Live-Stream
LOCATION;LANGUAGE=en-US:virtual
END:VEVENT
END:VCALENDAR