BEGIN:VCALENDAR
METHOD:REQUEST
VERSION:2.0
BEGIN:VEVENT
URL:https://viewstub.com/Highlanders-vs-Legends-3-13-21-Live-Stream
DTSTART:20210313T134500
DTEND:20210313T160000
SUMMARY;LANGUAGE=en-US:Highlanders vs Legends 3/13/21 Live Stream
DESCRIPTION;LANGUAGE=en-US:To see more information about this event, please visit: https://viewstub.com/Highlanders-vs-Legends-3-13-21-Live-Stream
LOCATION;LANGUAGE=en-US:virtual
END:VEVENT
END:VCALENDAR