BEGIN:VCALENDAR
METHOD:REQUEST
VERSION:2.0
BEGIN:VEVENT
URL:https://viewstub.com/How-to-Buy-Vyvanse-Online-Without-Getting-Scammed
DTSTART:20240903T120000
DTEND:20250206T120000
SUMMARY;LANGUAGE=en-US:How to Buy Vyvanse Online Without Getting Scammed
DESCRIPTION;LANGUAGE=en-US:To see more information about this event, please visit: https://viewstub.com/How-to-Buy-Vyvanse-Online-Without-Getting-Scammed
LOCATION;LANGUAGE=en-US:virtual
END:VEVENT
END:VCALENDAR