BEGIN:VCALENDAR
METHOD:REQUEST
VERSION:2.0
BEGIN:VEVENT
URL:https://viewstub.com/How-to-get-into-medical-school
DTSTART:20200929T190000
DTEND:20200929T224000
SUMMARY;LANGUAGE=en-US:How to get into medical school
DESCRIPTION;LANGUAGE=en-US:To see more information about this event, please visit: https://viewstub.com/How-to-get-into-medical-school
LOCATION;LANGUAGE=en-US:virtual
END:VEVENT
END:VCALENDAR