BEGIN:VCALENDAR
METHOD:REQUEST
VERSION:2.0
BEGIN:VEVENT
URL:https://viewstub.com/I-PagliacciAug15
DTSTART:20200815T193000
DTEND:19691231T190000
SUMMARY;LANGUAGE=en-US:I Pagliacci
DESCRIPTION;LANGUAGE=en-US:To see more information about this event, please visit: https://viewstub.com/I-PagliacciAug15
LOCATION;LANGUAGE=en-US:inperson
END:VEVENT
END:VCALENDAR