BEGIN:VCALENDAR
METHOD:REQUEST
VERSION:2.0
BEGIN:VEVENT
URL:https://viewstub.com/Indra
DTSTART:20250923T190000
DTEND:20250923T203000
SUMMARY;LANGUAGE=en-US:Indra On The Danube - Webinar
DESCRIPTION;LANGUAGE=en-US:To see more information about this event, please visit: https://viewstub.com/Indra
LOCATION;LANGUAGE=en-US:virtual
END:VEVENT
END:VCALENDAR