BEGIN:VCALENDAR
METHOD:REQUEST
VERSION:2.0
BEGIN:VEVENT
URL:https://viewstub.com/JUNK-THE-MUSICAL
DTSTART:20210624T203000
DTEND:20210626T200000
SUMMARY;LANGUAGE=en-US:JUNK THE MUSICAL
DESCRIPTION;LANGUAGE=en-US:To see more information about this event, please visit: https://viewstub.com/JUNK-THE-MUSICAL
LOCATION;LANGUAGE=en-US:virtual
END:VEVENT
END:VCALENDAR