BEGIN:VCALENDAR
METHOD:REQUEST
VERSION:2.0
BEGIN:VEVENT
URL:https://viewstub.com/Jethawks-vs-Storm-2-14-21
DTSTART:20210214T080000
DTEND:20210214T103000
SUMMARY;LANGUAGE=en-US:Jethawks vs Storm 2/14/21 Live Stream
DESCRIPTION;LANGUAGE=en-US:To see more information about this event, please visit: https://viewstub.com/Jethawks-vs-Storm-2-14-21
LOCATION;LANGUAGE=en-US:virtual
END:VEVENT
END:VCALENDAR